BEGIN:VCALENDAR
VERSION:2.0
PRODID:-//Humans Hope - ECPv6.15.20//NONSGML v1.0//EN
CALSCALE:GREGORIAN
METHOD:PUBLISH
X-ORIGINAL-URL:https://humanshope.org
X-WR-CALDESC:Evenementen voor Humans Hope
REFRESH-INTERVAL;VALUE=DURATION:PT1H
X-Robots-Tag:noindex
X-PUBLISHED-TTL:PT1H
BEGIN:VTIMEZONE
TZID:UTC
BEGIN:STANDARD
TZOFFSETFROM:+0000
TZOFFSETTO:+0000
TZNAME:UTC
DTSTART:20250101T000000
END:STANDARD
END:VTIMEZONE
BEGIN:VEVENT
DTSTART;TZID=UTC:20260502T080000
DTEND;TZID=UTC:20260502T170000
DTSTAMP:20260421T134509
CREATED:20260411T074431Z
LAST-MODIFIED:20260411T074431Z
UID:987510338-1777708800-1777741200@humanshope.org
SUMMARY:Mini congres en inspiratie dag De Nieuwe Geboorte
DESCRIPTION:Helaas is dit evenement geannuleerd.\nHeb je hier vragen over? Dan mag je ons mailen op info@humanshope.org
URL:https://humanshope.org/event/mini-congres-en-inspiratie-dag-de-nieuwe-geboorte/
END:VEVENT
END:VCALENDAR